BEGIN:VCALENDAR
METHOD:PUBLISH
VERSION:2.0
PRODID:-//Eventilla iCal Syndication//NONSGML Liana//EN
BEGIN:VEVENT
UID:zAVov@eventilla.com
DTSTAMP:20191120T150000Z
DTSTART:20191120T150000Z
DTEND:20191120T170000Z
SUMMARY:Kävyntuoksuinen ilta
DESCRIPTION:Pian on taas jouluhyasinttien aika. Nyt niistä pääsevät nauttimaan myös allergiset ja tuoksuherkät.\n \nKävyntuoksuisen hyasintin -askarteluilta\nkeskiviikkona 20.11. kello 17 – 19Hotelli Presidentissä\, Eteläinen Rautatiekatu 4\, 00100 Helsinki\n \nKäpyhyasintti on kestävä ja ekologinen. Kävyistä\, oksista ja askartelumassasta koottu kaunotar tuo joulun kotiisi. Tai ehkäpä annat sen veikeänä yllätyslahjana naapurillesi.\nItse tehty käpyhyasintti antaa mahdollisuuden nauttia hyasintin kauneudesta kaikille\, siis myös heille\, joille kukan voimakas tuoksu on tavallisesti liikaa.\nKurssinvetäjä Kirsi Tuominen tuo tullessaan käpyjä\, oksia ja muita hyasinttitarvikkeita. Kysymyslomakkeessa kysytään tarvikkeista\, mutta jos kotoasi löytyy kuumaliimapistooli\, niin ota se mukaasi!Kurssille mahtuu 25 osanottajaa. Askarteluilta on osanottajille maksuton. 
LOCATION:Hotelli Presidentti\, Eteläinen Rautatiekatu 4\, 00100\,
 Helsinki
URL:http://tapahtuma.hsj.fi/event/zAVov
END:VEVENT
END:VCALENDAR
