BEGIN:VCALENDAR
METHOD:PUBLISH
VERSION:2.0
PRODID:-//Eventilla iCal Syndication//NONSGML Liana//EN
BEGIN:VEVENT
UID:zWJlA@eventilla.com
DTSTAMP:20250226T110000Z
DTSTART:20250226T110000Z
DTEND:20250226T140000Z
SUMMARY:Neuvottelukoulutus kustannusalan freelancereille
DESCRIPTION:Lottaliina Pokkisen kuva: Marica Rosengård\nNeuvottelukoulutus kustannusalan freelancereille\nkeskiviikkona 26.2. kello 13–16Journalistiliiton toimisto Ympyrätalolla\, Siltasaarenkatu 18 A 7. krs\, Helsinki\nKirjallisuuden kääntäjä\, kustannustoimittaja tai graafikko – tule hiomaan neuvottelutaitojasi!\nMitkä ovat onnistuneen neuvottelun elementit? Miten palkkioista neuvotellaan altavastaajana? Iltapäivän aikana kuulet myös\, miten Journalistiliitto edistää kustannusalan freelancerien kollektiivisia neuvotteluja.\nKouluttajana toimii juristi ja tietokirjailija Lottaliina Pokkinen Lehtinen Legal Oy:stä. Pokkinen opastaa\, miten altavastaajana voi vahvistaa asemaansa palkkioneuvotteluissa\, ja antaa konkreettisia vinkkejä neuvotteluihin valmistautumiseen\, neuvottelutilanteeseen ja jälkihoitoon.\nLottaliina Pokkinen on viulistin koulutuksen saanut juristi (OTL) ja tietokirjailija\, joka edustaa maamme eturivin artisteja ja muita luovan alan tekijöitä heidän sopimusneuvotteluissaan. Neuvottelutaitoja Lottaliina on opiskellut muun muassa Harvardin yliopistossa. Hän on kouluttanut myös Journalistiliiton jäseniä.\nLisäksi SFJ:n toiminnanjohtaja Anna-Sofia Nieminen kertoo\, mistä kustannusalan freelancerien kollektiivisissa neuvotteluissa on kyse\, ja kuinka niissä edetään. Journalistiliiton juristi Eveliina Tuominen on joutunut perua osallistumisensa. Tilaisuudessa varataan myös aikaa yhteiselle keskustelulle ja kokemuksien jakamiselle. \nNeuvottelukoulutus on tarkoitettu kirja- ja kustannusalan tehtävissä toimiville freelancereille ja yrittäjille\, mutta tilaisuuteen ovat yhtä lailla tervetulleita alan työttömät ja pätkätyöläiset.\nMaksuttoman tilaisuuden järjestävät Helsingin Seudun Journalistit ja Suomen freelance-journalistit. Kokoonnumme Suomen Journalistiliiton toimistolle Helsinkiin Hakaniemen Ympyrätaloon. Tarjolla on kahvia\, teetä ja pientä välipalaa.\nMistä asioista toivot lisätietoa erityisesti? Kysymyksiä iltapäivän puhujille ja yhteiseen keskusteluun kannattaa jättää jo ilmoittautumisen yhteydessä. HUOM. ilmoittautumisaikaa on jatkettu sunnuntaihin 23.2. saakka. Koulutukseen on 23 paikan kiintiö molempien yhdistysten jäsenille.\nTervetuloa mukaan keskustelemaan ja poimimaan vinkit palkkio- ja sopimusneuvotteluihin!\n \nAlustava aikataulu\n\n13.00 Esittäytymiskierros ja ajankohtaisia asioita\n13.30 Freelancerien kollektiiviset neuvottelut kustannusalalla / Eveliina Tuominen\, juristi\, Journalistiliitto\n14.00 Tauko\n14.15 Paremmaksi neuvottelijaksi / Lottaliina Pokkinen\, juristi ja tietokirjailija\, Lehtinen Legal Oy\n15.15 Vapaata keskustelua\n16.00 Tilaisuus päättyy\n\n \nPeruutusehdot\n\nTapahtuma on osallistujille maksuton\, mutta esteen sattuessa muistathan perua ilmoittautumisesi mahdollisimman nopeasti.\n21.2. jälkeen peruutuksesta tai ilmoittamatta poisjäännistä peritään 15 euron maksu (poikkeuksena sairaustodistus). Maksusta voi vapautua myös jos tilalle ehditään saada toinen osallistuja.\nJos joudut perumaan osallistumisesi\, tee se ilmoittautumisvahvistuksen kautta. Sen saat sähköpostitse ilmoittautumisen yhteydessä. Lähetä peruutuksesta tieto myös ilmoittautumista hallinnoivan HSJ:n toimistoon: johanna.sillanpaa@hsj.fi\n\n \n \n 
LOCATION:Journalistiliiton toimisto, Ympyrätalo\, Siltasaarenkatu 18 A 7
 krs.\, 00535\, Helsinki\, Suomi
URL:http://tapahtuma.hsj.fi/neuvottelukoulutus
END:VEVENT
END:VCALENDAR
